BEGIN:VCALENDAR
VERSION:2.0
PRODID:-//Kita Heidberg - ECPv6.15.20//NONSGML v1.0//EN
CALSCALE:GREGORIAN
METHOD:PUBLISH
X-WR-CALNAME:Kita Heidberg
X-ORIGINAL-URL:https://heidberg.kinderwelt-hamburg.de
X-WR-CALDESC:Veranstaltungen für Kita Heidberg
REFRESH-INTERVAL;VALUE=DURATION:PT1H
X-Robots-Tag:noindex
X-PUBLISHED-TTL:PT1H
BEGIN:VTIMEZONE
TZID:Europe/Berlin
BEGIN:DAYLIGHT
TZOFFSETFROM:+0100
TZOFFSETTO:+0200
TZNAME:CEST
DTSTART:20250330T010000
END:DAYLIGHT
BEGIN:STANDARD
TZOFFSETFROM:+0200
TZOFFSETTO:+0100
TZNAME:CET
DTSTART:20251026T010000
END:STANDARD
BEGIN:DAYLIGHT
TZOFFSETFROM:+0100
TZOFFSETTO:+0200
TZNAME:CEST
DTSTART:20260329T010000
END:DAYLIGHT
BEGIN:STANDARD
TZOFFSETFROM:+0200
TZOFFSETTO:+0100
TZNAME:CET
DTSTART:20261025T010000
END:STANDARD
BEGIN:DAYLIGHT
TZOFFSETFROM:+0100
TZOFFSETTO:+0200
TZNAME:CEST
DTSTART:20270328T010000
END:DAYLIGHT
BEGIN:STANDARD
TZOFFSETFROM:+0200
TZOFFSETTO:+0100
TZNAME:CET
DTSTART:20271031T010000
END:STANDARD
BEGIN:DAYLIGHT
TZOFFSETFROM:+0100
TZOFFSETTO:+0200
TZNAME:CEST
DTSTART:20280326T010000
END:DAYLIGHT
BEGIN:STANDARD
TZOFFSETFROM:+0200
TZOFFSETTO:+0100
TZNAME:CET
DTSTART:20281029T010000
END:STANDARD
END:VTIMEZONE
BEGIN:VEVENT
DTSTART;TZID=Europe/Berlin:20261221T000000
DTEND;TZID=Europe/Berlin:20270101T235959
DTSTAMP:20260419T225507
CREATED:20250930T055658Z
LAST-MODIFIED:20250930T055659Z
UID:23510-1797811200-1798847999@heidberg.kinderwelt-hamburg.de
SUMMARY:Weihnachtspause
DESCRIPTION:Wir sind in der Weihnachtspause. Die Kita Heidberg ist geschlossen.
URL:https://heidberg.kinderwelt-hamburg.de/event/weihnachtspause-2/
CATEGORIES:Kita geschlossen
END:VEVENT
END:VCALENDAR