BEGIN:VCALENDAR
VERSION:2.0
PRODID:-//Kita Heidberg - ECPv6.15.20//NONSGML v1.0//EN
CALSCALE:GREGORIAN
METHOD:PUBLISH
X-ORIGINAL-URL:https://heidberg.kinderwelt-hamburg.de
X-WR-CALDESC:Veranstaltungen für Kita Heidberg
REFRESH-INTERVAL;VALUE=DURATION:PT1H
X-Robots-Tag:noindex
X-PUBLISHED-TTL:PT1H
BEGIN:VTIMEZONE
TZID:Europe/Berlin
BEGIN:DAYLIGHT
TZOFFSETFROM:+0100
TZOFFSETTO:+0200
TZNAME:CEST
DTSTART:20250330T010000
END:DAYLIGHT
BEGIN:STANDARD
TZOFFSETFROM:+0200
TZOFFSETTO:+0100
TZNAME:CET
DTSTART:20251026T010000
END:STANDARD
BEGIN:DAYLIGHT
TZOFFSETFROM:+0100
TZOFFSETTO:+0200
TZNAME:CEST
DTSTART:20260329T010000
END:DAYLIGHT
BEGIN:STANDARD
TZOFFSETFROM:+0200
TZOFFSETTO:+0100
TZNAME:CET
DTSTART:20261025T010000
END:STANDARD
BEGIN:DAYLIGHT
TZOFFSETFROM:+0100
TZOFFSETTO:+0200
TZNAME:CEST
DTSTART:20270328T010000
END:DAYLIGHT
BEGIN:STANDARD
TZOFFSETFROM:+0200
TZOFFSETTO:+0100
TZNAME:CET
DTSTART:20271031T010000
END:STANDARD
END:VTIMEZONE
BEGIN:VEVENT
DTSTART;TZID=Europe/Berlin:20261217T000000
DTEND;TZID=Europe/Berlin:20261217T235959
DTSTAMP:20260419T225657
CREATED:20251113T094032Z
LAST-MODIFIED:20251111T094147Z
UID:23656-1797465600-1797551999@heidberg.kinderwelt-hamburg.de
SUMMARY:Weihnachtsfeier
DESCRIPTION:Am vorletzten Tag vor unserer Schließung feiern wir traditionell mit den Kindern am Vormittag Weihnachten. Das liegt daran\, dass der Weihnachtsmann an Heiligabend so viel zu tun hat. Wegen dieser Terminschwierigkeiten kommt er schon heute zu uns.
URL:https://heidberg.kinderwelt-hamburg.de/event/weihnachtsfeier-2/
CATEGORIES:Feste
END:VEVENT
END:VCALENDAR