BEGIN:VCALENDAR
VERSION:2.0
PRODID:-//Kita Heidberg - ECPv6.15.20//NONSGML v1.0//EN
CALSCALE:GREGORIAN
METHOD:PUBLISH
X-WR-CALNAME:Kita Heidberg
X-ORIGINAL-URL:https://heidberg.kinderwelt-hamburg.de
X-WR-CALDESC:Veranstaltungen für Kita Heidberg
REFRESH-INTERVAL;VALUE=DURATION:PT1H
X-Robots-Tag:noindex
X-PUBLISHED-TTL:PT1H
BEGIN:VTIMEZONE
TZID:Europe/Berlin
BEGIN:DAYLIGHT
TZOFFSETFROM:+0100
TZOFFSETTO:+0200
TZNAME:CEST
DTSTART:20250330T010000
END:DAYLIGHT
BEGIN:STANDARD
TZOFFSETFROM:+0200
TZOFFSETTO:+0100
TZNAME:CET
DTSTART:20251026T010000
END:STANDARD
BEGIN:DAYLIGHT
TZOFFSETFROM:+0100
TZOFFSETTO:+0200
TZNAME:CEST
DTSTART:20260329T010000
END:DAYLIGHT
BEGIN:STANDARD
TZOFFSETFROM:+0200
TZOFFSETTO:+0100
TZNAME:CET
DTSTART:20261025T010000
END:STANDARD
BEGIN:DAYLIGHT
TZOFFSETFROM:+0100
TZOFFSETTO:+0200
TZNAME:CEST
DTSTART:20270328T010000
END:DAYLIGHT
BEGIN:STANDARD
TZOFFSETFROM:+0200
TZOFFSETTO:+0100
TZNAME:CET
DTSTART:20271031T010000
END:STANDARD
END:VTIMEZONE
BEGIN:VEVENT
DTSTART;TZID=Europe/Berlin:20260929T000000
DTEND;TZID=Europe/Berlin:20260929T235959
DTSTAMP:20260419T184635
CREATED:20251113T091722Z
LAST-MODIFIED:20251111T092936Z
UID:23648-1790640000-1790726399@heidberg.kinderwelt-hamburg.de
SUMMARY:Elternabend Elementarbereich
DESCRIPTION:Wir freuen uns sehr\, euch heute Abend zu unserem Elternabend in unserem Elementarbereich willkommen zu heißen! Ihr wählt neue ElternvertreterInnen und wir stehen euch zur Verfügung\, um eure Fragen zu beantworten\, euch einen Einblick in unsere Arbeit mit euren Kindern zu geben und euch über alles Wichtige rund um die Kita Heidberg zu informieren. Wir freuen uns auf einen angenehmen Abend mit euch! \n\n\n\nDie Anfangszeit für den Abend reichen wir euch noch nach.
URL:https://heidberg.kinderwelt-hamburg.de/event/elternabend-elementarbereich-2/
CATEGORIES:Elternabend
END:VEVENT
END:VCALENDAR